BEGIN:VCALENDAR
VERSION:2.0
PRODID:-//Ville Essarts-en-Bocage - ECPv4.6.1//NONSGML v1.0//EN
CALSCALE:GREGORIAN
METHOD:PUBLISH
X-WR-CALNAME:Ville Essarts-en-Bocage
X-ORIGINAL-URL:https://www.essartsenbocage.fr
X-WR-CALDESC:Events for Ville Essarts-en-Bocage
BEGIN:VEVENT
DTSTART;TZID=Europe/Paris:20260310T091500
DTEND;TZID=Europe/Paris:20260310T121500
DTSTAMP:20260421T110816
CREATED:20260210T112143Z
LAST-MODIFIED:20260210T112143Z
UID:61002-1773134100-1773144900@www.essartsenbocage.fr
SUMMARY:Atelier "Une vie devant nous"
DESCRIPTION:  \n
URL:https://www.essartsenbocage.fr/evenement/atelier-une-vie-devant-nous/
CATEGORIES:Seniors
ORGANIZER;CN="CIAS%20Saint%20Fulgent":MAILTO:prevention@ciasfulgent-essarts.fr
END:VEVENT
END:VCALENDAR