BEGIN:VCALENDAR
VERSION:2.0
PRODID:-//Ville Essarts-en-Bocage - ECPv4.6.1//NONSGML v1.0//EN
CALSCALE:GREGORIAN
METHOD:PUBLISH
X-WR-CALNAME:Ville Essarts-en-Bocage
X-ORIGINAL-URL:https://www.essartsenbocage.fr
X-WR-CALDESC:Events for Ville Essarts-en-Bocage
BEGIN:VEVENT
DTSTART;VALUE=DATE:20230930
DTEND;VALUE=DATE:20231001
DTSTAMP:20260420T145234
CREATED:20230703T142300Z
LAST-MODIFIED:20230703T142300Z
UID:41003-1696032000-1696118399@www.essartsenbocage.fr
SUMMARY:Portes ouvertes Olicante
DESCRIPTION:
URL:https://www.essartsenbocage.fr/evenement/portes-ouvertes-olicante/
LOCATION:Place de la mairie\, Essarts en Bocage\, 85140\, France
CATEGORIES:animations,Culture,Événement public,Loisirs,Portes ouvertes
ORGANIZER;CN="Culture%20et%20loisirs%20Essartais":MAILTO:asso.clessartais@gmail.com
END:VEVENT
END:VCALENDAR