BEGIN:VCALENDAR
VERSION:2.0
PRODID:-//Ville Essarts-en-Bocage - ECPv4.6.1//NONSGML v1.0//EN
CALSCALE:GREGORIAN
METHOD:PUBLISH
X-WR-CALNAME:Ville Essarts-en-Bocage
X-ORIGINAL-URL:https://www.essartsenbocage.fr
X-WR-CALDESC:Events for Ville Essarts-en-Bocage
BEGIN:VEVENT
DTSTART;TZID=Europe/Paris:20230610T093000
DTEND;TZID=Europe/Paris:20230610T160000
DTSTAMP:20260420T220750
CREATED:20230504T130456Z
LAST-MODIFIED:20230504T130456Z
UID:40422-1686389400-1686412800@www.essartsenbocage.fr
SUMMARY:Portes ouvertes de la crèche "à petits pas"
DESCRIPTION:La crèche intercommunale « A petits pas » fête ses 10 ans en 2023 ! \nPour l’occasion\, une journée portes ouvertes avec de nombreuses animations a lieu le samedi 10 juin de 9h30 à 16h00. \n \n
URL:https://www.essartsenbocage.fr/evenement/portes-ouvertes-de-la-creche-a-petits-pas/
LOCATION:8 rue Jules Verne\, Saint-Fulgent\, 85250\, France
CATEGORIES:animations,Enfance,Portes ouvertes
ORGANIZER;CN="Cr%C3%A8che%20%C3%A0%20petits%20pas":MAILTO:apetitspas@ccfulgent-essarts.fr
END:VEVENT
END:VCALENDAR