BEGIN:VCALENDAR
VERSION:2.0
PRODID:-//Ville Essarts-en-Bocage - ECPv4.6.1//NONSGML v1.0//EN
CALSCALE:GREGORIAN
METHOD:PUBLISH
X-WR-CALNAME:Ville Essarts-en-Bocage
X-ORIGINAL-URL:https://www.essartsenbocage.fr
X-WR-CALDESC:Events for Ville Essarts-en-Bocage
BEGIN:VEVENT
DTSTART;TZID=Europe/Paris:20230107T093000
DTEND;TZID=Europe/Paris:20230107T113000
DTSTAMP:20260421T080542
CREATED:20221109T133946Z
LAST-MODIFIED:20221109T135400Z
UID:38559-1673083800-1673091000@www.essartsenbocage.fr
SUMMARY:Portes ouvertes école maternelle Chaissac
DESCRIPTION: \n
URL:https://www.essartsenbocage.fr/evenement/portes-ouvertes-ecole-maternelle-chaissac/
LOCATION:impasse des écoliers - Les Essarts\, Essarts en Bocage\, 85140\, France
CATEGORIES:Portes ouvertes
ORGANIZER;CN="Ecole%20Gaston%20Chaissac":MAILTO:maternelle.les.essarts@wanadoo.fr
END:VEVENT
END:VCALENDAR