BEGIN:VCALENDAR
VERSION:2.0
PRODID:-//Ville Essarts-en-Bocage - ECPv4.6.1//NONSGML v1.0//EN
CALSCALE:GREGORIAN
METHOD:PUBLISH
X-WR-CALNAME:Ville Essarts-en-Bocage
X-ORIGINAL-URL:https://www.essartsenbocage.fr
X-WR-CALDESC:Events for Ville Essarts-en-Bocage
BEGIN:VEVENT
DTSTART;VALUE=DATE:20221007
DTEND;VALUE=DATE:20221010
DTSTAMP:20260421T131716
CREATED:20220919T074903Z
LAST-MODIFIED:20220919T075200Z
UID:37715-1665100800-1665359999@www.essartsenbocage.fr
SUMMARY:15ème anniversaire de Batismac
DESCRIPTION:Cette d’entreprise basée à Essarts en Bocage\, est spécialisée dans le dépannage et l’installation dans les domaines de l’automatisme\, de la sécurité\, de la domotique\, des Ouvertures / fenêtres\, de l’isolation… \n
URL:https://www.essartsenbocage.fr/evenement/15eme-anniversaire-de-batismac/
LOCATION:Sainte florence\, 85140\, France
CATEGORIES:Portes ouvertes
END:VEVENT
END:VCALENDAR