BEGIN:VCALENDAR
VERSION:2.0
PRODID:-//Ville Essarts-en-Bocage - ECPv4.6.1//NONSGML v1.0//EN
CALSCALE:GREGORIAN
METHOD:PUBLISH
X-WR-CALNAME:Ville Essarts-en-Bocage
X-ORIGINAL-URL:https://www.essartsenbocage.fr
X-WR-CALDESC:Events for Ville Essarts-en-Bocage
BEGIN:VEVENT
DTSTART;TZID=Europe/Paris:20220622T170000
DTEND;TZID=Europe/Paris:20220622T180000
DTSTAMP:20260421T200018
CREATED:20220613T093722Z
LAST-MODIFIED:20220613T093722Z
UID:35582-1655917200-1655920800@www.essartsenbocage.fr
SUMMARY:Portes ouvertes - classe Rythmes et boomwhackers
DESCRIPTION:Nouveauté : Ouverture d’une section boomwhackers à la rentrée prochaine à l’école de musique d’Essarts en Bocage à la Capeterie (à côté de la bibliothèque)  \nInvitation aux portes ouvertes spéciales boomwhackers le Mercredi 22 juin 2022 de 17h00 à 18h00 \n| Tous les curieux sont les bienvenus…  \n \n
URL:https://www.essartsenbocage.fr/evenement/portes-ouvertes-classe-rythmes-et-boomwhackers/
CATEGORIES:Culture,Portes ouvertes
END:VEVENT
END:VCALENDAR