BEGIN:VCALENDAR
VERSION:2.0
PRODID:-//Ville Essarts-en-Bocage - ECPv4.6.1//NONSGML v1.0//EN
CALSCALE:GREGORIAN
METHOD:PUBLISH
X-WR-CALNAME:Ville Essarts-en-Bocage
X-ORIGINAL-URL:https://www.essartsenbocage.fr
X-WR-CALDESC:Events for Ville Essarts-en-Bocage
BEGIN:VEVENT
DTSTART;TZID=Europe/Paris:20201010T100000
DTEND;TZID=Europe/Paris:20201010T140000
DTSTAMP:20260423T092340
CREATED:20201007T124418Z
LAST-MODIFIED:20201007T125103Z
UID:17354-1602324000-1602338400@www.essartsenbocage.fr
SUMMARY:Portes ouvertes accueil junior
DESCRIPTION:  \n \n
URL:https://www.essartsenbocage.fr/evenement/portes-ouvertes-accueil-junior/
CATEGORIES:Portes ouvertes
ATTACH;FMTTYPE=image/jpeg:https://www.essartsenbocage.fr/wp-content/uploads/2020/08/Illustration-pb-site-smiley.jpg
ORGANIZER;CN="Mairie%20d%27Essarts%20en%20Bocage":MAILTO:mairie-essarts@essartsenbocage.fr
END:VEVENT
END:VCALENDAR