BEGIN:VCALENDAR
VERSION:2.0
PRODID:-//Ville Essarts-en-Bocage - ECPv4.6.1//NONSGML v1.0//EN
CALSCALE:GREGORIAN
METHOD:PUBLISH
X-WR-CALNAME:Ville Essarts-en-Bocage
X-ORIGINAL-URL:https://www.essartsenbocage.fr
X-WR-CALDESC:Events for Ville Essarts-en-Bocage
BEGIN:VEVENT
DTSTART;TZID=Europe/Paris:20250308T180000
DTEND;TZID=Europe/Paris:20250308T180000
DTSTAMP:20260421T092545
CREATED:20250205T140019Z
LAST-MODIFIED:20250205T140052Z
UID:47229-1741456800-1741456800@www.essartsenbocage.fr
SUMMARY:Loto
DESCRIPTION:Le Tennis Club Essartais organise un loto le 8 mars 2025\, à la salle du Vallon à Sainte-Florence. \nOuverture à 18h00 et jeux à 20h00. \n
URL:https://www.essartsenbocage.fr/evenement/loto-15/
CATEGORIES:Loto,Sorties
ATTACH;FMTTYPE=image/png:https://www.essartsenbocage.fr/wp-content/uploads/2022/07/LOTO-ST-FLO.png
END:VEVENT
END:VCALENDAR