BEGIN:VCALENDAR
VERSION:2.0
PRODID:-//Ville Essarts-en-Bocage - ECPv4.6.1//NONSGML v1.0//EN
CALSCALE:GREGORIAN
METHOD:PUBLISH
X-WR-CALNAME:Ville Essarts-en-Bocage
X-ORIGINAL-URL:https://www.essartsenbocage.fr
X-WR-CALDESC:Events for Ville Essarts-en-Bocage
BEGIN:VEVENT
DTSTART;TZID=Europe/Paris:20230415T180000
DTEND;TZID=Europe/Paris:20230415T230000
DTSTAMP:20260423T042334
CREATED:20230308T154745Z
LAST-MODIFIED:20230308T155102Z
UID:39773-1681581600-1681599600@www.essartsenbocage.fr
SUMMARY:Loto du FC Essartais
DESCRIPTION:
URL:https://www.essartsenbocage.fr/evenement/loto-du-fc-essartais/
CATEGORIES:Loto
ATTACH;FMTTYPE=image/jpeg:https://www.essartsenbocage.fr/wp-content/uploads/2021/12/10616679.jpg
ORGANIZER;CN="FC%20EBM":MAILTO:contact@fcebm.fr
END:VEVENT
END:VCALENDAR