BEGIN:VCALENDAR
VERSION:2.0
PRODID:-//Ville Essarts-en-Bocage - ECPv4.6.1//NONSGML v1.0//EN
CALSCALE:GREGORIAN
METHOD:PUBLISH
X-WR-CALNAME:Ville Essarts-en-Bocage
X-ORIGINAL-URL:https://www.essartsenbocage.fr
X-WR-CALDESC:Events for Ville Essarts-en-Bocage
BEGIN:VEVENT
DTSTART;TZID=Europe/Paris:20220116T140000
DTEND;TZID=Europe/Paris:20220116T170000
DTSTAMP:20260424T071440
CREATED:20211209T155707Z
LAST-MODIFIED:20211210T150642Z
UID:28062-1642341600-1642352400@www.essartsenbocage.fr
SUMMARY:Loto
DESCRIPTION: \n
URL:https://www.essartsenbocage.fr/evenement/loto-7/
LOCATION:Place de la mairie\, Essarts en Bocage\, 85140\, France
CATEGORIES:Loisirs,Loto
ATTACH;FMTTYPE=image/jpeg:https://www.essartsenbocage.fr/wp-content/uploads/2021/12/10616679.jpg
END:VEVENT
END:VCALENDAR