BEGIN:VCALENDAR
VERSION:2.0
PRODID:-//Ville Essarts-en-Bocage - ECPv4.6.1//NONSGML v1.0//EN
CALSCALE:GREGORIAN
METHOD:PUBLISH
X-WR-CALNAME:Ville Essarts-en-Bocage
X-ORIGINAL-URL:https://www.essartsenbocage.fr
X-WR-CALDESC:Events for Ville Essarts-en-Bocage
BEGIN:VEVENT
DTSTART;TZID=Europe/Paris:20200322T080000
DTEND;TZID=Europe/Paris:20200322T080000
DTSTAMP:20260425T204837
CREATED:20200214T150306Z
LAST-MODIFIED:20200214T150306Z
UID:11697-1584864000-1584864000@www.essartsenbocage.fr
SUMMARY:LOTO BASKET
DESCRIPTION:
URL:https://www.essartsenbocage.fr/evenement/loto-basket/
LOCATION:5 Rue du Foyer Rural\, Essarts en Bocage\, 85140\, France
CATEGORIES:Loto
END:VEVENT
END:VCALENDAR