BEGIN:VCALENDAR
VERSION:2.0
PRODID:-//Ville Essarts-en-Bocage - ECPv4.6.1//NONSGML v1.0//EN
CALSCALE:GREGORIAN
METHOD:PUBLISH
X-WR-CALNAME:Ville Essarts-en-Bocage
X-ORIGINAL-URL:https://www.essartsenbocage.fr
X-WR-CALDESC:Events for Ville Essarts-en-Bocage
BEGIN:VEVENT
DTSTART;TZID=Europe/Paris:20241018T164500
DTEND;TZID=Europe/Paris:20241018T164500
DTSTAMP:20260419T133410
CREATED:20240925T073432Z
LAST-MODIFIED:20240925T073512Z
UID:45387-1729269900-1729269900@www.essartsenbocage.fr
SUMMARY:La Boum d'Halloween
DESCRIPTION:L’OGEC de Boulogne organise une boum à l’occasion d’Halloween. \n  \n \n
URL:https://www.essartsenbocage.fr/evenement/la-boum-dhalloween/
LOCATION:Place de l'Eglise - Boulogne\, Essarts en Bocage\, 85140\, France
CATEGORIES:Enfance,Loisirs
END:VEVENT
END:VCALENDAR