BEGIN:VCALENDAR
VERSION:2.0
PRODID:-//Ville Essarts-en-Bocage - ECPv4.6.1//NONSGML v1.0//EN
CALSCALE:GREGORIAN
METHOD:PUBLISH
X-WR-CALNAME:Ville Essarts-en-Bocage
X-ORIGINAL-URL:https://www.essartsenbocage.fr
X-WR-CALDESC:Events for Ville Essarts-en-Bocage
BEGIN:VEVENT
DTSTART;TZID=Europe/Paris:20230617T100000
DTEND;TZID=Europe/Paris:20230618T200000
DTSTAMP:20260420T205751
CREATED:20230504T131330Z
LAST-MODIFIED:20230504T131330Z
UID:40435-1686996000-1687118400@www.essartsenbocage.fr
SUMMARY:Kermesse école privée Sainte Marie - Sainte-Florence
DESCRIPTION: \n
URL:https://www.essartsenbocage.fr/evenement/kermesse-ecole-privee-sainte-marie-sainte-florence/
LOCATION:5 Rue du Foyer Rural\, Essarts en Bocage\, 85140\, France
CATEGORIES:animations,Enfance,Événement public,Sorties,spectacles
ORGANIZER;CN="OGEC%20La%20Florentine":MAILTO:axelola85@yahoo.fr
END:VEVENT
END:VCALENDAR