BEGIN:VCALENDAR
VERSION:2.0
PRODID:-//Ville Essarts-en-Bocage - ECPv4.6.1//NONSGML v1.0//EN
CALSCALE:GREGORIAN
METHOD:PUBLISH
X-WR-CALNAME:Ville Essarts-en-Bocage
X-ORIGINAL-URL:https://www.essartsenbocage.fr
X-WR-CALDESC:Events for Ville Essarts-en-Bocage
BEGIN:VEVENT
DTSTART;VALUE=DATE:20230614
DTEND;VALUE=DATE:20230615
DTSTAMP:20260420T210103
CREATED:20230504T131148Z
LAST-MODIFIED:20230504T131148Z
UID:40432-1686700800-1686787199@www.essartsenbocage.fr
SUMMARY:Election prix jeunes lecteurs
DESCRIPTION: \n
URL:https://www.essartsenbocage.fr/evenement/election-prix-jeunes-lecteurs/
LOCATION:51 rue Georges Clemenceau\, Les Essarts\, 85140\, France
CATEGORIES:animations,Concours,Culture,Enfance
ORGANIZER;CN="Centre%20de%20Loisirs%20Essarts":MAILTO:centreloisirsessarts@orange.fr
END:VEVENT
END:VCALENDAR