BEGIN:VCALENDAR
VERSION:2.0
PRODID:-//Ville Essarts-en-Bocage - ECPv4.6.1//NONSGML v1.0//EN
CALSCALE:GREGORIAN
METHOD:PUBLISH
X-WR-CALNAME:Ville Essarts-en-Bocage
X-ORIGINAL-URL:https://www.essartsenbocage.fr
X-WR-CALDESC:Events for Ville Essarts-en-Bocage
BEGIN:VEVENT
DTSTART;VALUE=DATE:20230603
DTEND;VALUE=DATE:20230604
DTSTAMP:20260420T205552
CREATED:20230504T124322Z
LAST-MODIFIED:20230504T131728Z
UID:40411-1685750400-1685836799@www.essartsenbocage.fr
SUMMARY:Kermesse école privée Notre Dame - Les Essarts
DESCRIPTION: \n
URL:https://www.essartsenbocage.fr/evenement/kermesse-ecole-privee-notre-dame-les-essarts/
LOCATION:Route de Chauché\, Les Essarts\, 85140\, France
CATEGORIES:animations,Enfance,Événement public
ORGANIZER;CN="Ecole%20Notre%20Dame%20-%20Les%20Essarts":MAILTO:ecolenotredame.les-essarts@wanadoo.fr
END:VEVENT
END:VCALENDAR