BEGIN:VCALENDAR
VERSION:2.0
PRODID:-//Ville Essarts-en-Bocage - ECPv4.6.1//NONSGML v1.0//EN
CALSCALE:GREGORIAN
METHOD:PUBLISH
X-WR-CALNAME:Ville Essarts-en-Bocage
X-ORIGINAL-URL:https://www.essartsenbocage.fr
X-WR-CALDESC:Events for Ville Essarts-en-Bocage
BEGIN:VEVENT
DTSTART;VALUE=DATE:20221109
DTEND;VALUE=DATE:20221110
DTSTAMP:20260421T104607
CREATED:20220919T080602Z
LAST-MODIFIED:20220919T080740Z
UID:37728-1667952000-1668038399@www.essartsenbocage.fr
SUMMARY:Fabrication & vente de jus de pomme
DESCRIPTION:L’association « C’est pour eux » composée des parents d’élèves de l’école Gaston Chaissac\, propose une journée fabrication et vente de jus de pomme. \n
URL:https://www.essartsenbocage.fr/evenement/fabrication-vente-de-jus-de-pomme/
LOCATION:impasse des écoliers - Les Essarts\, Essarts en Bocage\, 85140\, France
CATEGORIES:animations,Enfance
END:VEVENT
END:VCALENDAR