BEGIN:VCALENDAR
VERSION:2.0
PRODID:-//Ville Essarts-en-Bocage - ECPv4.6.1//NONSGML v1.0//EN
CALSCALE:GREGORIAN
METHOD:PUBLISH
X-WR-CALNAME:Ville Essarts-en-Bocage
X-ORIGINAL-URL:https://www.essartsenbocage.fr
X-WR-CALDESC:Events for Ville Essarts-en-Bocage
BEGIN:VEVENT
DTSTART;TZID=Europe/Paris:20240224T140000
DTEND;TZID=Europe/Paris:20240224T200000
DTSTAMP:20260423T081055
CREATED:20240202T083237Z
LAST-MODIFIED:20240202T083237Z
UID:43060-1708783200-1708804800@www.essartsenbocage.fr
SUMMARY:Concours de palet Fonte en Doublette
DESCRIPTION: \n
URL:https://www.essartsenbocage.fr/evenement/concours-de-palet-fonte-en-doublette/
LOCATION:Route de Chauché\, Les Essarts\, 85140\, France
CATEGORIES:Concours
END:VEVENT
END:VCALENDAR