BEGIN:VCALENDAR
VERSION:2.0
PRODID:-//Ville Essarts-en-Bocage - ECPv4.6.1//NONSGML v1.0//EN
CALSCALE:GREGORIAN
METHOD:PUBLISH
X-WR-CALNAME:Ville Essarts-en-Bocage
X-ORIGINAL-URL:https://www.essartsenbocage.fr
X-WR-CALDESC:Events for Ville Essarts-en-Bocage
BEGIN:VEVENT
DTSTART;TZID=Europe/Paris:20231119T140000
DTEND;TZID=Europe/Paris:20231119T190000
DTSTAMP:20260423T130209
CREATED:20230907T094041Z
LAST-MODIFIED:20230907T094041Z
UID:41623-1700402400-1700420400@www.essartsenbocage.fr
SUMMARY:Bal Accueil Essartais
DESCRIPTION:
URL:https://www.essartsenbocage.fr/evenement/bal-accueil-essartais/
LOCATION:Place de la mairie\, Essarts en Bocage\, 85140\, France
CATEGORIES:Concours
ORGANIZER;CN="Accueil%20Essartais":MAILTO:alain-delestre@orange.fr
END:VEVENT
END:VCALENDAR