BEGIN:VCALENDAR
VERSION:2.0
PRODID:-//Ville Essarts-en-Bocage - ECPv4.6.1//NONSGML v1.0//EN
CALSCALE:GREGORIAN
METHOD:PUBLISH
X-WR-CALNAME:Ville Essarts-en-Bocage
X-ORIGINAL-URL:https://www.essartsenbocage.fr
X-WR-CALDESC:Events for Ville Essarts-en-Bocage
BEGIN:VEVENT
DTSTART;TZID=Europe/Paris:20230317T140000
DTEND;TZID=Europe/Paris:20230317T170000
DTSTAMP:20260424T032454
CREATED:20230308T144946Z
LAST-MODIFIED:20230308T144946Z
UID:39713-1679061600-1679072400@www.essartsenbocage.fr
SUMMARY:Concours de belote
DESCRIPTION:
URL:https://www.essartsenbocage.fr/evenement/concours-de-belote-22/
LOCATION:Rue Du Foyer\, Essarts en Bocage\, 85140\, France
CATEGORIES:Concours
ATTACH;FMTTYPE=image/jpeg:https://www.essartsenbocage.fr/wp-content/uploads/2021/12/cartes.jpg
END:VEVENT
END:VCALENDAR