BEGIN:VCALENDAR
VERSION:2.0
PRODID:-//Ville Essarts-en-Bocage - ECPv4.6.1//NONSGML v1.0//EN
CALSCALE:GREGORIAN
METHOD:PUBLISH
X-WR-CALNAME:Ville Essarts-en-Bocage
X-ORIGINAL-URL:https://www.essartsenbocage.fr
X-WR-CALDESC:Events for Ville Essarts-en-Bocage
BEGIN:VEVENT
DTSTART;TZID=Europe/Paris:20221118T140000
DTEND;TZID=Europe/Paris:20221118T190000
DTSTAMP:20260424T104943
CREATED:20220919T082915Z
LAST-MODIFIED:20220919T082915Z
UID:37739-1668780000-1668798000@www.essartsenbocage.fr
SUMMARY:Concours de Belote
DESCRIPTION:
URL:https://www.essartsenbocage.fr/evenement/concours-de-belote-20/
LOCATION:Rue Du Foyer\, Essarts en Bocage\, 85140\, France
CATEGORIES:Concours
END:VEVENT
END:VCALENDAR