BEGIN:VCALENDAR
VERSION:2.0
PRODID:-//Ville Essarts-en-Bocage - ECPv4.6.1//NONSGML v1.0//EN
CALSCALE:GREGORIAN
METHOD:PUBLISH
X-WR-CALNAME:Ville Essarts-en-Bocage
X-ORIGINAL-URL:https://www.essartsenbocage.fr
X-WR-CALDESC:Events for Ville Essarts-en-Bocage
BEGIN:VEVENT
DTSTART;TZID=Europe/Paris:20221027T140000
DTEND;TZID=Europe/Paris:20221027T190000
DTSTAMP:20260424T122208
CREATED:20220916T133811Z
LAST-MODIFIED:20220916T135107Z
UID:37694-1666879200-1666897200@www.essartsenbocage.fr
SUMMARY:Concours de Belote
DESCRIPTION:
URL:https://www.essartsenbocage.fr/evenement/concours-de-belote-19/
LOCATION:32 Rue de la Ramée\, Les Essarts\, 85140\, France
CATEGORIES:Concours
END:VEVENT
END:VCALENDAR