BEGIN:VCALENDAR
VERSION:2.0
PRODID:-//Ville Essarts-en-Bocage - ECPv4.6.1//NONSGML v1.0//EN
CALSCALE:GREGORIAN
METHOD:PUBLISH
X-WR-CALNAME:Ville Essarts-en-Bocage
X-ORIGINAL-URL:https://www.essartsenbocage.fr
X-WR-CALDESC:Events for Ville Essarts-en-Bocage
BEGIN:VEVENT
DTSTART;TZID=Europe/Paris:20221021T140000
DTEND;TZID=Europe/Paris:20221021T190000
DTSTAMP:20260424T122056
CREATED:20220923T071302Z
LAST-MODIFIED:20220923T071302Z
UID:37824-1666360800-1666378800@www.essartsenbocage.fr
SUMMARY:Concours de Belote
DESCRIPTION:
URL:https://www.essartsenbocage.fr/evenement/concours-de-belote-21/
CATEGORIES:Concours
END:VEVENT
END:VCALENDAR