BEGIN:VCALENDAR
VERSION:2.0
PRODID:-//Ville Essarts-en-Bocage - ECPv4.6.1//NONSGML v1.0//EN
CALSCALE:GREGORIAN
METHOD:PUBLISH
X-WR-CALNAME:Ville Essarts-en-Bocage
X-ORIGINAL-URL:https://www.essartsenbocage.fr
X-WR-CALDESC:Events for Ville Essarts-en-Bocage
BEGIN:VEVENT
DTSTART;TZID=Europe/Paris:20221008T140000
DTEND;TZID=Europe/Paris:20221008T190000
DTSTAMP:20260424T123934
CREATED:20220916T132726Z
LAST-MODIFIED:20220916T135137Z
UID:37692-1665237600-1665255600@www.essartsenbocage.fr
SUMMARY:Concours de Belote
DESCRIPTION:
URL:https://www.essartsenbocage.fr/evenement/concours-de-belote-18/
LOCATION:Place de l'Eglise - Boulogne\, Essarts en Bocage\, 85140\, France
CATEGORIES:Concours
END:VEVENT
END:VCALENDAR