BEGIN:VCALENDAR
VERSION:2.0
PRODID:-//Ville Essarts-en-Bocage - ECPv4.6.1//NONSGML v1.0//EN
CALSCALE:GREGORIAN
METHOD:PUBLISH
X-WR-CALNAME:Ville Essarts-en-Bocage
X-ORIGINAL-URL:https://www.essartsenbocage.fr
X-WR-CALDESC:Events for Ville Essarts-en-Bocage
BEGIN:VEVENT
DTSTART;VALUE=DATE:20201009
DTEND;VALUE=DATE:20201101
DTSTAMP:20260426T041910
CREATED:20201009T100421Z
LAST-MODIFIED:20201009T100428Z
UID:17412-1602201600-1604188799@www.essartsenbocage.fr
SUMMARY:Concours Ville en Joie 2020
DESCRIPTION: \n  \nC’est PAR ICI >> CONCOURS VILLE EN JOIE <<\n
URL:https://www.essartsenbocage.fr/evenement/concours-ville-en-joie-2020/
CATEGORIES:Concours
ORGANIZER;CN="Mairie%20d%27Essarts%20en%20Bocage":MAILTO:mairie-essarts@essartsenbocage.fr
END:VEVENT
END:VCALENDAR