BEGIN:VCALENDAR
VERSION:2.0
PRODID:-//Ville Essarts-en-Bocage - ECPv4.6.1//NONSGML v1.0//EN
CALSCALE:GREGORIAN
METHOD:PUBLISH
X-WR-CALNAME:Ville Essarts-en-Bocage
X-ORIGINAL-URL:https://www.essartsenbocage.fr
X-WR-CALDESC:Events for Ville Essarts-en-Bocage
BEGIN:VEVENT
DTSTART;TZID=Europe/Paris:20261130T153000
DTEND;TZID=Europe/Paris:20261130T193000
DTSTAMP:20260420T195958
CREATED:20260209T162715Z
LAST-MODIFIED:20260209T162716Z
UID:60980-1796052600-1796067000@www.essartsenbocage.fr
SUMMARY:Don du sang
DESCRIPTION: \n
URL:https://www.essartsenbocage.fr/evenement/don-du-sang-22/
LOCATION:27 Rue des Bouleaux\, 60480 Noyers-Saint-Martin\, Noyers-Saint-Martin\, 60480\, France
CATEGORIES:Solidarité
END:VEVENT
END:VCALENDAR