BEGIN:VCALENDAR
VERSION:2.0
PRODID:-//Ville Essarts-en-Bocage - ECPv4.6.1//NONSGML v1.0//EN
CALSCALE:GREGORIAN
METHOD:PUBLISH
X-WR-CALNAME:Ville Essarts-en-Bocage
X-ORIGINAL-URL:https://www.essartsenbocage.fr
X-WR-CALDESC:Events for Ville Essarts-en-Bocage
BEGIN:VEVENT
DTSTART;TZID=Europe/Paris:20260731T153000
DTEND;TZID=Europe/Paris:20260731T193000
DTSTAMP:20260420T123033
CREATED:20260209T161219Z
LAST-MODIFIED:20260209T161219Z
UID:60976-1785511800-1785526200@www.essartsenbocage.fr
SUMMARY:Don du Sang
DESCRIPTION: \n
URL:https://www.essartsenbocage.fr/evenement/don-du-sang-20/
LOCATION:Place de la mairie\, Essarts en Bocage\, 85140\, France
END:VEVENT
BEGIN:VEVENT
DTSTART;TZID=Europe/Paris:20260731T163000
DTEND;TZID=Europe/Paris:20260731T193000
DTSTAMP:20260420T123033
CREATED:20260130T150712Z
LAST-MODIFIED:20260130T150712Z
UID:60821-1785515400-1785526200@www.essartsenbocage.fr
SUMMARY:Marché Saveurs & Cie
DESCRIPTION: \n
URL:https://www.essartsenbocage.fr/evenement/marche-saveurs-cie-28/
LOCATION:25 Rue du Général de Gaulle\, Les Essarts\, 85140\, France
CATEGORIES:Foires et marchés
END:VEVENT
END:VCALENDAR