BEGIN:VCALENDAR
VERSION:2.0
PRODID:-//Ville Essarts-en-Bocage - ECPv4.6.1//NONSGML v1.0//EN
CALSCALE:GREGORIAN
METHOD:PUBLISH
X-WR-CALNAME:Ville Essarts-en-Bocage
X-ORIGINAL-URL:https://www.essartsenbocage.fr
X-WR-CALDESC:Events for Ville Essarts-en-Bocage
BEGIN:VEVENT
DTSTART;TZID=Europe/Paris:20260619T163000
DTEND;TZID=Europe/Paris:20260619T193000
DTSTAMP:20260420T103252
CREATED:20260130T145622Z
LAST-MODIFIED:20260130T145622Z
UID:60807-1781886600-1781897400@www.essartsenbocage.fr
SUMMARY:Marché Saveurs & Cie
DESCRIPTION: \n
URL:https://www.essartsenbocage.fr/evenement/marche-saveurs-cie-21/
LOCATION:25 Rue du Général de Gaulle\, Les Essarts\, 85140\, France
CATEGORIES:Foires et marchés
END:VEVENT
END:VCALENDAR