BEGIN:VCALENDAR
VERSION:2.0
PRODID:-//Ville Essarts-en-Bocage - ECPv4.6.1//NONSGML v1.0//EN
CALSCALE:GREGORIAN
METHOD:PUBLISH
X-WR-CALNAME:Ville Essarts-en-Bocage
X-ORIGINAL-URL:https://www.essartsenbocage.fr
X-WR-CALDESC:Events for Ville Essarts-en-Bocage
BEGIN:VEVENT
DTSTART;TZID=Europe/Paris:20260605T163000
DTEND;TZID=Europe/Paris:20260605T193000
DTSTAMP:20260420T102818
CREATED:20260130T145520Z
LAST-MODIFIED:20260325T161512Z
UID:60805-1780677000-1780687800@www.essartsenbocage.fr
SUMMARY:Le Marché des Saveurs & Cie fête ses 10 ans
DESCRIPTION:Inscription au repas : 06 43 02 01 96 \n
URL:https://www.essartsenbocage.fr/evenement/marche-saveurs-cie-20/
LOCATION:Les Essarts\, 85140\, France
CATEGORIES:Foires et marchés
END:VEVENT
END:VCALENDAR