BEGIN:VCALENDAR
VERSION:2.0
PRODID:-//Ville Essarts-en-Bocage - ECPv4.6.1//NONSGML v1.0//EN
CALSCALE:GREGORIAN
METHOD:PUBLISH
X-WR-CALNAME:Ville Essarts-en-Bocage
X-ORIGINAL-URL:https://www.essartsenbocage.fr
X-WR-CALDESC:Events for Ville Essarts-en-Bocage
BEGIN:VEVENT
DTSTART;TZID=Europe/Paris:20260603T093000
DTEND;TZID=Europe/Paris:20260603T113000
DTSTAMP:20260422T104617
CREATED:20260209T154424Z
LAST-MODIFIED:20260209T154424Z
UID:60963-1780479000-1780486200@www.essartsenbocage.fr
SUMMARY:Lieu de partage Parents-Enfants
DESCRIPTION: \n
URL:https://www.essartsenbocage.fr/evenement/lieu-de-partage-parents-enfants-10/
LOCATION:1 bis impasse des écoliers\, Essarts-en-Bocage\, 85140\, France
CATEGORIES:Enfance
END:VEVENT
END:VCALENDAR