BEGIN:VCALENDAR
VERSION:2.0
PRODID:-//Ville Essarts-en-Bocage - ECPv4.6.1//NONSGML v1.0//EN
CALSCALE:GREGORIAN
METHOD:PUBLISH
X-WR-CALNAME:Ville Essarts-en-Bocage
X-ORIGINAL-URL:https://www.essartsenbocage.fr
X-WR-CALDESC:Events for Ville Essarts-en-Bocage
BEGIN:VEVENT
DTSTART;TZID=Europe/Paris:20260528T153000
DTEND;TZID=Europe/Paris:20260528T193000
DTSTAMP:20260420T085614
CREATED:20260209T160956Z
LAST-MODIFIED:20260209T161312Z
UID:60974-1779982200-1779996600@www.essartsenbocage.fr
SUMMARY:Don du Sang
DESCRIPTION: \n
URL:https://www.essartsenbocage.fr/evenement/don-du-sang-19/
LOCATION:Place de la mairie\, Essarts en Bocage\, 85140\, France
END:VEVENT
END:VCALENDAR