BEGIN:VCALENDAR
VERSION:2.0
PRODID:-//Ville Essarts-en-Bocage - ECPv4.6.1//NONSGML v1.0//EN
CALSCALE:GREGORIAN
METHOD:PUBLISH
X-WR-CALNAME:Ville Essarts-en-Bocage
X-ORIGINAL-URL:https://www.essartsenbocage.fr
X-WR-CALDESC:Events for Ville Essarts-en-Bocage
BEGIN:VEVENT
DTSTART;TZID=Europe/Paris:20260522T163000
DTEND;TZID=Europe/Paris:20260522T193000
DTSTAMP:20260422T091253
CREATED:20260130T145250Z
LAST-MODIFIED:20260212T091237Z
UID:60803-1779467400-1779478200@www.essartsenbocage.fr
SUMMARY:Marché Saveurs & Cie
DESCRIPTION: \n
URL:https://www.essartsenbocage.fr/evenement/marche-saveurs-cie-19/
LOCATION:25 Rue du Général de Gaulle\, Les Essarts\, 85140\, France
CATEGORIES:Foires et marchés
END:VEVENT
END:VCALENDAR