BEGIN:VCALENDAR
VERSION:2.0
PRODID:-//Ville Essarts-en-Bocage - ECPv4.6.1//NONSGML v1.0//EN
CALSCALE:GREGORIAN
METHOD:PUBLISH
X-WR-CALNAME:Ville Essarts-en-Bocage
X-ORIGINAL-URL:https://www.essartsenbocage.fr
X-WR-CALDESC:Events for Ville Essarts-en-Bocage
BEGIN:VEVENT
DTSTART;TZID=Europe/Paris:20260422T100000
DTEND;TZID=Europe/Paris:20260422T103000
DTSTAMP:20260420T064255
CREATED:20260326T091400Z
LAST-MODIFIED:20260327T075731Z
UID:61640-1776852000-1776853800@www.essartsenbocage.fr
SUMMARY:Bébés lecteurs (0-3 ans)
DESCRIPTION: \n  \n
URL:https://www.essartsenbocage.fr/evenement/bebes-lecteurs-0-3-ans-2/
LOCATION:France
CATEGORIES:Culture,Enfance,Médiathèque
ORGANIZER;CN="M%C3%A9diath%C3%A8que%20-%20Les%20Essarts":MAILTO:mediatheque-essart@essartsenbocage.fr
END:VEVENT
BEGIN:VEVENT
DTSTART;TZID=Europe/Paris:20260422T104500
DTEND;TZID=Europe/Paris:20260422T120000
DTSTAMP:20260420T064255
CREATED:20260326T091732Z
LAST-MODIFIED:20260327T080017Z
UID:61643-1776854700-1776859200@www.essartsenbocage.fr
SUMMARY:Heure du conte (à partir de 4 ans)
DESCRIPTION: \n  \n  \n  \n  \n  \n  \n  \n  \n  \n  \n  \n  \n  \n  \n  \n  \n  \n  \n  \n  \nThème 👉Les contes revisités autour du kamishibaï : Pourquoi m’apprendre la peur ? \n  \n
URL:https://www.essartsenbocage.fr/evenement/heure-du-conte-a-partir-de-4-ans/
LOCATION:France
CATEGORIES:Enfance,Médiathèque
ORGANIZER;CN="M%C3%A9diath%C3%A8que%20des%20Essarts":MAILTO:mediatheque-boulogne@essartsenbocage.fr
END:VEVENT
END:VCALENDAR