BEGIN:VCALENDAR
VERSION:2.0
PRODID:-//Ville Essarts-en-Bocage - ECPv4.6.1//NONSGML v1.0//EN
CALSCALE:GREGORIAN
METHOD:PUBLISH
X-WR-CALNAME:Ville Essarts-en-Bocage
X-ORIGINAL-URL:https://www.essartsenbocage.fr
X-WR-CALDESC:Events for Ville Essarts-en-Bocage
BEGIN:VEVENT
DTSTART;VALUE=DATE:20260411
DTEND;VALUE=DATE:20260413
DTSTAMP:20260420T064154
CREATED:20260210T162840Z
LAST-MODIFIED:20260210T162840Z
UID:61064-1775865600-1776038399@www.essartsenbocage.fr
SUMMARY:Foire commerciale
DESCRIPTION: \n
URL:https://www.essartsenbocage.fr/evenement/foire-commerciale/
LOCATION:Route de Chauché\, Les Essarts\, 85140\, France
CATEGORIES:Événement public,Foires et marchés
ORGANIZER;CN="Essarticomm":MAILTO:essarticomm@gmail.com
END:VEVENT
END:VCALENDAR