BEGIN:VCALENDAR
VERSION:2.0
PRODID:-//Ville Essarts-en-Bocage - ECPv4.6.1//NONSGML v1.0//EN
CALSCALE:GREGORIAN
METHOD:PUBLISH
X-WR-CALNAME:Ville Essarts-en-Bocage
X-ORIGINAL-URL:https://www.essartsenbocage.fr
X-WR-CALDESC:Events for Ville Essarts-en-Bocage
BEGIN:VEVENT
DTSTART;VALUE=DATE:20260328
DTEND;VALUE=DATE:20260330
DTSTAMP:20260421T104142
CREATED:20260210T163952Z
LAST-MODIFIED:20260210T163953Z
UID:61067-1774656000-1774828799@www.essartsenbocage.fr
SUMMARY:Tour du bocage
DESCRIPTION: \n
URL:https://www.essartsenbocage.fr/evenement/tour-du-bocage/
CATEGORIES:Manifestation sportive,Sport
END:VEVENT
BEGIN:VEVENT
DTSTART;TZID=Europe/Paris:20260328T180000
DTEND;TZID=Europe/Paris:20260328T220000
DTSTAMP:20260421T104142
CREATED:20260224T141238Z
LAST-MODIFIED:20260224T141238Z
UID:61223-1774720800-1774735200@www.essartsenbocage.fr
SUMMARY:Spectacle présenté par les Ateliers "Théâtre"
DESCRIPTION: \n
URL:https://www.essartsenbocage.fr/evenement/spectacle-presente-par-les-ateliers-theatre-2/
LOCATION:Place de la mairie\, Essarts en Bocage\, 85140\, France
CATEGORIES:spectacles
END:VEVENT
END:VCALENDAR