BEGIN:VCALENDAR
VERSION:2.0
PRODID:-//Ville Essarts-en-Bocage - ECPv4.6.1//NONSGML v1.0//EN
CALSCALE:GREGORIAN
METHOD:PUBLISH
X-WR-CALNAME:Ville Essarts-en-Bocage
X-ORIGINAL-URL:https://www.essartsenbocage.fr
X-WR-CALDESC:Events for Ville Essarts-en-Bocage
BEGIN:VEVENT
DTSTART;TZID=Europe/Paris:20260322T143000
DTEND;TZID=Europe/Paris:20260322T170000
DTSTAMP:20260421T104306
CREATED:20260224T135529Z
LAST-MODIFIED:20260224T135529Z
UID:61210-1774189800-1774198800@www.essartsenbocage.fr
SUMMARY:Pièce de théâtre "Grosse erreur de casting"
DESCRIPTION: \n
URL:https://www.essartsenbocage.fr/evenement/piece-de-theatre-grosse-erreur-de-casting-5/
LOCATION:Place de la mairie\, Essarts en Bocage\, 85140\, France
CATEGORIES:Culture,spectacles
END:VEVENT
END:VCALENDAR