BEGIN:VCALENDAR
VERSION:2.0
PRODID:-//Ville Essarts-en-Bocage - ECPv4.6.1//NONSGML v1.0//EN
CALSCALE:GREGORIAN
METHOD:PUBLISH
X-WR-CALNAME:Ville Essarts-en-Bocage
X-ORIGINAL-URL:https://www.essartsenbocage.fr
X-WR-CALDESC:Events for Ville Essarts-en-Bocage
BEGIN:VEVENT
DTSTART;TZID=Europe/Paris:20260321T064500
DTEND;TZID=Europe/Paris:20260321T190000
DTSTAMP:20260421T104120
CREATED:20260224T140725Z
LAST-MODIFIED:20260224T140726Z
UID:61217-1774075500-1774119600@www.essartsenbocage.fr
SUMMARY:Pêche à la truite
DESCRIPTION: \n
URL:https://www.essartsenbocage.fr/evenement/peche-a-la-truite-4/
LOCATION:Les Essarts
CATEGORIES:Manifestation sportive
END:VEVENT
BEGIN:VEVENT
DTSTART;TZID=Europe/Paris:20260321T203000
DTEND;TZID=Europe/Paris:20260321T230000
DTSTAMP:20260421T104120
CREATED:20260224T135407Z
LAST-MODIFIED:20260224T135408Z
UID:61208-1774125000-1774134000@www.essartsenbocage.fr
SUMMARY:Pièce de théâtre "Grosse erreur de casting"
DESCRIPTION: \n
URL:https://www.essartsenbocage.fr/evenement/piece-de-theatre-grosse-erreur-de-casting-4/
LOCATION:Place de la mairie\, Essarts en Bocage\, 85140\, France
CATEGORIES:Culture,spectacles
END:VEVENT
END:VCALENDAR