BEGIN:VCALENDAR
VERSION:2.0
PRODID:-//Ville Essarts-en-Bocage - ECPv4.6.1//NONSGML v1.0//EN
CALSCALE:GREGORIAN
METHOD:PUBLISH
X-WR-CALNAME:Ville Essarts-en-Bocage
X-ORIGINAL-URL:https://www.essartsenbocage.fr
X-WR-CALDESC:Events for Ville Essarts-en-Bocage
BEGIN:VEVENT
DTSTART;TZID=Europe/Paris:20260318T090000
DTEND;TZID=Europe/Paris:20260318T120000
DTSTAMP:20260421T104222
CREATED:20260224T140255Z
LAST-MODIFIED:20260224T140256Z
UID:61215-1773824400-1773835200@www.essartsenbocage.fr
SUMMARY:Foire mensuelle
DESCRIPTION: \n
URL:https://www.essartsenbocage.fr/evenement/foire-mensuelle-12/
LOCATION:place du 8 mai 1945\, Les Essarts\, 85140\, France
CATEGORIES:Foires et marchés
ORGANIZER;CN="Mairie%20d%27Essarts%20en%20Bocage":MAILTO:mairie-essarts@essartsenbocage.fr
END:VEVENT
BEGIN:VEVENT
DTSTART;TZID=Europe/Paris:20260318T093000
DTEND;TZID=Europe/Paris:20260318T113000
DTSTAMP:20260421T104222
CREATED:20260212T132739Z
LAST-MODIFIED:20260212T132740Z
UID:61110-1773826200-1773833400@www.essartsenbocage.fr
SUMMARY:Mois de la petite enfance | Motricité et structures gonflables
DESCRIPTION:  \n
URL:https://www.essartsenbocage.fr/evenement/mois-de-la-petite-enfance-motricite-et-structures-gonflables/
LOCATION:Rue du Pont Bonnau\, Les Essarts\, 85140
CATEGORIES:Enfance
END:VEVENT
END:VCALENDAR