BEGIN:VCALENDAR
VERSION:2.0
PRODID:-//Ville Essarts-en-Bocage - ECPv4.6.1//NONSGML v1.0//EN
CALSCALE:GREGORIAN
METHOD:PUBLISH
X-WR-CALNAME:Ville Essarts-en-Bocage
X-ORIGINAL-URL:https://www.essartsenbocage.fr
X-WR-CALDESC:Events for Ville Essarts-en-Bocage
BEGIN:VEVENT
DTSTART;VALUE=DATE:20260315
DTEND;VALUE=DATE:20260316
DTSTAMP:20260421T104305
CREATED:20260224T135807Z
LAST-MODIFIED:20260224T135807Z
UID:61212-1773532800-1773619199@www.essartsenbocage.fr
SUMMARY:Elections municipales
DESCRIPTION: \n
URL:https://www.essartsenbocage.fr/evenement/elections-municipales/
LOCATION:85140
CATEGORIES:Événement public
ORGANIZER;CN="Mairie%20d%27Essarts%20en%20Bocage":MAILTO:mairie-essarts@essartsenbocage.fr
END:VEVENT
BEGIN:VEVENT
DTSTART;TZID=Europe/Paris:20260315T143000
DTEND;TZID=Europe/Paris:20260315T170000
DTSTAMP:20260421T104305
CREATED:20260224T135042Z
LAST-MODIFIED:20260224T135042Z
UID:61203-1773585000-1773594000@www.essartsenbocage.fr
SUMMARY:Pièce de théâtre "Grosse erreur de casting"
DESCRIPTION: \n
URL:https://www.essartsenbocage.fr/evenement/piece-de-theatre-grosse-erreur-de-casting-2/
LOCATION:Place de la mairie\, Essarts en Bocage\, 85140\, France
CATEGORIES:Culture,spectacles
END:VEVENT
END:VCALENDAR