BEGIN:VCALENDAR
VERSION:2.0
PRODID:-//Ville Essarts-en-Bocage - ECPv4.6.1//NONSGML v1.0//EN
CALSCALE:GREGORIAN
METHOD:PUBLISH
X-WR-CALNAME:Ville Essarts-en-Bocage
X-ORIGINAL-URL:https://www.essartsenbocage.fr
X-WR-CALDESC:Events for Ville Essarts-en-Bocage
BEGIN:VEVENT
DTSTART;TZID=Europe/Paris:20260313T093000
DTEND;TZID=Europe/Paris:20260313T110000
DTSTAMP:20260421T104942
CREATED:20260212T132231Z
LAST-MODIFIED:20260212T132231Z
UID:61105-1773394200-1773399600@www.essartsenbocage.fr
SUMMARY:Mois de la petite enfance | Atelier d'éveil
DESCRIPTION:  \n
URL:https://www.essartsenbocage.fr/evenement/mois-de-la-petite-enfance-atelier-deveil/
LOCATION:13 place du Marché\, Les Essarts\, 85140
CATEGORIES:Enfance
END:VEVENT
BEGIN:VEVENT
DTSTART;TZID=Europe/Paris:20260313T163000
DTEND;TZID=Europe/Paris:20260313T193000
DTSTAMP:20260421T104942
CREATED:20260130T144733Z
LAST-MODIFIED:20260130T144733Z
UID:60795-1773419400-1773430200@www.essartsenbocage.fr
SUMMARY:Marchés Saveurs & Cie
DESCRIPTION: \n
URL:https://www.essartsenbocage.fr/evenement/marches-saveurs-cie/
LOCATION:25 Rue du Général de Gaulle\, Les Essarts\, 85140\, France
CATEGORIES:Foires et marchés
END:VEVENT
END:VCALENDAR