BEGIN:VCALENDAR
VERSION:2.0
PRODID:-//Ville Essarts-en-Bocage - ECPv4.6.1//NONSGML v1.0//EN
CALSCALE:GREGORIAN
METHOD:PUBLISH
X-WR-CALNAME:Ville Essarts-en-Bocage
X-ORIGINAL-URL:https://www.essartsenbocage.fr
X-WR-CALDESC:Events for Ville Essarts-en-Bocage
BEGIN:VEVENT
DTSTART;TZID=Europe/Paris:20260312T190000
DTEND;TZID=Europe/Paris:20260312T203000
DTSTAMP:20260421T104223
CREATED:20260212T131745Z
LAST-MODIFIED:20260212T131745Z
UID:61103-1773342000-1773347400@www.essartsenbocage.fr
SUMMARY:Mois de la petite enfance | Soirée Parents
DESCRIPTION:  \n
URL:https://www.essartsenbocage.fr/evenement/mois-de-la-petite-enfance-soiree-parents/
LOCATION:2 impasse du Moulin\, Les Essarts\, 85140
CATEGORIES:Enfance
END:VEVENT
END:VCALENDAR