BEGIN:VCALENDAR
VERSION:2.0
PRODID:-//Ville Essarts-en-Bocage - ECPv4.6.1//NONSGML v1.0//EN
CALSCALE:GREGORIAN
METHOD:PUBLISH
X-WR-CALNAME:Ville Essarts-en-Bocage
X-ORIGINAL-URL:https://www.essartsenbocage.fr
X-WR-CALDESC:Events for Ville Essarts-en-Bocage
BEGIN:VEVENT
DTSTART;TZID=Europe/Paris:20260308T093000
DTEND;TZID=Europe/Paris:20260308T120000
DTSTAMP:20260421T104137
CREATED:20260224T134039Z
LAST-MODIFIED:20260224T134039Z
UID:61194-1772962200-1772971200@www.essartsenbocage.fr
SUMMARY:Matinée ramassage des déchets
DESCRIPTION: \n
URL:https://www.essartsenbocage.fr/evenement/matinee-ramassage-des-dechets/
LOCATION:Les Essarts\, 85140\, France
CATEGORIES:Environnement,Événement public,Manifestation sportive,Solidarité
END:VEVENT
END:VCALENDAR