BEGIN:VCALENDAR
VERSION:2.0
PRODID:-//Ville Essarts-en-Bocage - ECPv4.6.1//NONSGML v1.0//EN
CALSCALE:GREGORIAN
METHOD:PUBLISH
X-WR-CALNAME:Ville Essarts-en-Bocage
X-ORIGINAL-URL:https://www.essartsenbocage.fr
X-WR-CALDESC:Events for Ville Essarts-en-Bocage
BEGIN:VEVENT
DTSTART;TZID=Europe/Paris:20260125T140000
DTEND;TZID=Europe/Paris:20260125T180000
DTSTAMP:20260421T104024
CREATED:20251231T102119Z
LAST-MODIFIED:20251231T102119Z
UID:60457-1769349600-1769364000@www.essartsenbocage.fr
SUMMARY:Après-midi Jeux de société
DESCRIPTION: \n
URL:https://www.essartsenbocage.fr/evenement/apres-midi-jeux-de-societe-2/
LOCATION:La Merlatière
CATEGORIES:animations,Enfance,Événement public
END:VEVENT
BEGIN:VEVENT
DTSTART;TZID=Europe/Paris:20260125T143000
DTEND;TZID=Europe/Paris:20260125T170000
DTSTAMP:20260421T104024
CREATED:20260112T153357Z
LAST-MODIFIED:20260112T153357Z
UID:60580-1769351400-1769360400@www.essartsenbocage.fr
SUMMARY:Théâtre de Boulogne "Noël au balcon"
DESCRIPTION: \n
URL:https://www.essartsenbocage.fr/evenement/theatre-de-boulogne-noel-au-balcon-4/
LOCATION:Place de l'Eglise - Boulogne\, Essarts en Bocage\, 85140\, France
CATEGORIES:spectacles
END:VEVENT
END:VCALENDAR