BEGIN:VCALENDAR
VERSION:2.0
PRODID:-//Ville Essarts-en-Bocage - ECPv4.6.1//NONSGML v1.0//EN
CALSCALE:GREGORIAN
METHOD:PUBLISH
X-WR-CALNAME:Ville Essarts-en-Bocage
X-ORIGINAL-URL:https://www.essartsenbocage.fr
X-WR-CALDESC:Events for Ville Essarts-en-Bocage
BEGIN:VEVENT
DTSTART;TZID=Europe/Paris:20260124T093000
DTEND;TZID=Europe/Paris:20260124T120000
DTSTAMP:20260421T104017
CREATED:20251118T110643Z
LAST-MODIFIED:20251208T103356Z
UID:60055-1769247000-1769256000@www.essartsenbocage.fr
SUMMARY:Portes ouvertes Ecole publique Gaston Chaissac
DESCRIPTION: \n
URL:https://www.essartsenbocage.fr/evenement/portes-ouvertes-ecole-publique-gaston-chaissac-2/
LOCATION:impasse des écoliers - Les Essarts\, Essarts en Bocage\, 85140\, France
CATEGORIES:Enfance,Portes ouvertes
ORGANIZER;CN="Ecole%20Gaston%20Chaissac":MAILTO:maternelle.les.essarts@wanadoo.fr
END:VEVENT
BEGIN:VEVENT
DTSTART;TZID=Europe/Paris:20260124T190000
DTEND;TZID=Europe/Paris:20260124T190000
DTSTAMP:20260421T104017
CREATED:20251210T154953Z
LAST-MODIFIED:20251210T155033Z
UID:60272-1769281200-1769281200@www.essartsenbocage.fr
SUMMARY:Soirée Fluo Repas dansant
DESCRIPTION: \n
URL:https://www.essartsenbocage.fr/evenement/soiree-fluo-repas-dansant/
LOCATION:Place de la mairie\, Essarts en Bocage\, 85140\, France
CATEGORIES:Repas
ORGANIZER;CN="Pays%20des%20Essarts%20Handball":MAILTO:paysdesessartshandball@gmail.com
END:VEVENT
BEGIN:VEVENT
DTSTART;TZID=Europe/Paris:20260124T203000
DTEND;TZID=Europe/Paris:20260124T230000
DTSTAMP:20260421T104017
CREATED:20260112T153221Z
LAST-MODIFIED:20260112T153221Z
UID:60578-1769286600-1769295600@www.essartsenbocage.fr
SUMMARY:Théâtre de Boulogne "Noël au balcon"
DESCRIPTION: \n
URL:https://www.essartsenbocage.fr/evenement/theatre-de-boulogne-noel-au-balcon-3/
LOCATION:Place de l'Eglise - Boulogne\, Essarts en Bocage\, 85140\, France
CATEGORIES:spectacles
END:VEVENT
END:VCALENDAR