BEGIN:VCALENDAR
VERSION:2.0
PRODID:-//Ville Essarts-en-Bocage - ECPv4.6.1//NONSGML v1.0//EN
CALSCALE:GREGORIAN
METHOD:PUBLISH
X-WR-CALNAME:Ville Essarts-en-Bocage
X-ORIGINAL-URL:https://www.essartsenbocage.fr
X-WR-CALDESC:Events for Ville Essarts-en-Bocage
BEGIN:VEVENT
DTSTART;TZID=Europe/Paris:20260122T183000
DTEND;TZID=Europe/Paris:20260122T203000
DTSTAMP:20260421T104120
CREATED:20251218T142450Z
LAST-MODIFIED:20251218T142450Z
UID:60376-1769106600-1769113800@www.essartsenbocage.fr
SUMMARY:Assemblée Générale de l'Association Mémoire Vivante
DESCRIPTION:
URL:https://www.essartsenbocage.fr/evenement/assemblee-generale-de-lassociation-memoire-vivante/
LOCATION:Place de la mairie\, Essarts en Bocage\, 85140\, France
END:VEVENT
END:VCALENDAR